BEGIN:VCALENDAR
VERSION:2.0
CALSCALE:GREGORIAN
PRODID:-//Diputació de Barcelona//DibaCMS//EN
BEGIN:VEVENT
UID:22965
DTSTAMP:20260424T011858
DTSTART:20100903T000000
DTEND:20100903T000000
SUMMARY:Festa de l'Espai d'Entitats
LOCATION:
METHOD:PUBLISH
X-WR-CALNAME:e-seu@ajpiera.cat
X-WR-TIMEZONE:Europe/Madrid
DESCRIPTION:Festa de l'Espai d'Entitats
URI:https://www.viladepiera.cat/actualitat/agenda/festa-de-lespai-dentitats.html
CLASS:PUBLIC
END:VEVENT
END:VCALENDAR
