BEGIN:VCALENDAR
VERSION:2.0
CALSCALE:GREGORIAN
PRODID:-//Diputació de Barcelona//DibaCMS//EN
BEGIN:VEVENT
UID:22966
DTSTAMP:20260424T053948
DTSTART:20100903T190000
DTEND:20100903T000000
SUMMARY:Inauguració de l'exposició de Ferran Soriano
LOCATION:
METHOD:PUBLISH
X-WR-CALNAME:e-seu@ajpiera.cat
X-WR-TIMEZONE:Europe/Madrid
DESCRIPTION:Inauguració de l'exposició de Ferran Soriano
URI:https://www.viladepiera.cat/actualitat/agenda/inauguracio-de-lexposicio-de-ferran-soriano.html
CLASS:PUBLIC
END:VEVENT
END:VCALENDAR
