BEGIN:VCALENDAR
VERSION:2.0
CALSCALE:GREGORIAN
PRODID:-//Diputació de Barcelona//DibaCMS//EN
BEGIN:VEVENT
UID:22967
DTSTAMP:20260423T230631
DTSTART:20100904T100000
DTEND:20100904T210000
SUMMARY:Bàsquet 3x3
LOCATION:
METHOD:PUBLISH
X-WR-CALNAME:e-seu@ajpiera.cat
X-WR-TIMEZONE:Europe/Madrid
DESCRIPTION:Bàsquet 3x3
URI:https://www.viladepiera.cat/actualitat/agenda/basquet-3x3.html
CLASS:PUBLIC
END:VEVENT
END:VCALENDAR
