BEGIN:VCALENDAR
VERSION:2.0
CALSCALE:GREGORIAN
PRODID:-//Diputació de Barcelona//DibaCMS//EN
BEGIN:VEVENT
UID:22968
DTSTAMP:20260424T195046
DTSTART:20100904T180000
DTEND:20100904T000000
SUMMARY:Cercavila d'hereus i pubilles
LOCATION:
METHOD:PUBLISH
X-WR-CALNAME:e-seu@ajpiera.cat
X-WR-TIMEZONE:Europe/Madrid
DESCRIPTION:Cercavila d'hereus i pubilles
URI:https://www.viladepiera.cat/actualitat/agenda/cercavila-dhereus-i-pubilles.html
CLASS:PUBLIC
END:VEVENT
END:VCALENDAR
