BEGIN:VCALENDAR
VERSION:2.0
CALSCALE:GREGORIAN
PRODID:-//Diputació de Barcelona//DibaCMS//EN
BEGIN:VEVENT
UID:22969
DTSTAMP:20260423T225545
DTSTART:20100904T190000
DTEND:20100904T000000
SUMMARY:XXV Trobada de pubillatge
LOCATION:
METHOD:PUBLISH
X-WR-CALNAME:e-seu@ajpiera.cat
X-WR-TIMEZONE:Europe/Madrid
DESCRIPTION:XXV Trobada de pubillatge
URI:https://www.viladepiera.cat/actualitat/agenda/xxv-trobada-de-pubillatge.html
CLASS:PUBLIC
END:VEVENT
END:VCALENDAR
