BEGIN:VCALENDAR
VERSION:2.0
CALSCALE:GREGORIAN
PRODID:-//Diputació de Barcelona//DibaCMS//EN
BEGIN:VEVENT
UID:22970
DTSTAMP:20260423T230056
DTSTART:20100904T203000
DTEND:20100904T000000
SUMMARY:IV Cercavila colles infantils de diables
LOCATION:
METHOD:PUBLISH
X-WR-CALNAME:e-seu@ajpiera.cat
X-WR-TIMEZONE:Europe/Madrid
DESCRIPTION:IV Cercavila colles infantils de diables
URI:https://www.viladepiera.cat/actualitat/agenda/iv-cercavila-colles-infantils-de-diables.html
CLASS:PUBLIC
END:VEVENT
END:VCALENDAR
