BEGIN:VCALENDAR
VERSION:2.0
CALSCALE:GREGORIAN
PRODID:-//Diputació de Barcelona//DibaCMS//EN
BEGIN:VEVENT
UID:22971
DTSTAMP:20260424T064726
DTSTART:20100904T230000
DTEND:20100904T000000
SUMMARY:Ball amb l'Orkestina
LOCATION:
METHOD:PUBLISH
X-WR-CALNAME:e-seu@ajpiera.cat
X-WR-TIMEZONE:Europe/Madrid
DESCRIPTION:Ball amb l'Orkestina
URI:https://www.viladepiera.cat/actualitat/agenda/ball-amb-lorkestina.html
CLASS:PUBLIC
END:VEVENT
END:VCALENDAR
