BEGIN:VCALENDAR
VERSION:2.0
CALSCALE:GREGORIAN
PRODID:-//Diputació de Barcelona//DibaCMS//EN
BEGIN:VEVENT
UID:22972
DTSTAMP:20260424T021855
DTSTART:20100904T000000
DTEND:20100904T000000
SUMMARY:Fira d'estocs d'estiu
LOCATION:
METHOD:PUBLISH
X-WR-CALNAME:e-seu@ajpiera.cat
X-WR-TIMEZONE:Europe/Madrid
DESCRIPTION:Fira d'estocs d'estiu
URI:https://www.viladepiera.cat/actualitat/agenda/fira-destocs-destiu.html
CLASS:PUBLIC
END:VEVENT
END:VCALENDAR
