BEGIN:VCALENDAR
VERSION:2.0
CALSCALE:GREGORIAN
PRODID:-//Diputació de Barcelona//DibaCMS//EN
BEGIN:VEVENT
UID:22973
DTSTAMP:20260424T054427
DTSTART:20100905T090000
DTEND:20100905T000000
SUMMARY:Paintball i festa jove
LOCATION:
METHOD:PUBLISH
X-WR-CALNAME:e-seu@ajpiera.cat
X-WR-TIMEZONE:Europe/Madrid
DESCRIPTION:Paintball i festa jove
URI:https://www.viladepiera.cat/actualitat/agenda/paintball-i-festa-jove.html
CLASS:PUBLIC
END:VEVENT
END:VCALENDAR
