BEGIN:VCALENDAR
VERSION:2.0
CALSCALE:GREGORIAN
PRODID:-//Diputació de Barcelona//DibaCMS//EN
BEGIN:VEVENT
UID:22974
DTSTAMP:20260424T000111
DTSTART:20100905T120000
DTEND:20100905T000000
SUMMARY:Sorteig calendari concurs teatre
LOCATION:
METHOD:PUBLISH
X-WR-CALNAME:e-seu@ajpiera.cat
X-WR-TIMEZONE:Europe/Madrid
DESCRIPTION:Sorteig calendari concurs teatre
URI:https://www.viladepiera.cat/actualitat/agenda/sorteig-calendari-concurs-teatre.html
CLASS:PUBLIC
END:VEVENT
END:VCALENDAR
