BEGIN:VCALENDAR
VERSION:2.0
CALSCALE:GREGORIAN
PRODID:-//Diputació de Barcelona//DibaCMS//EN
BEGIN:VEVENT
UID:22982
DTSTAMP:20260423T220617
DTSTART:20100910T210000
DTEND:20100910T000000
SUMMARY:Dansa del ventre
LOCATION:
METHOD:PUBLISH
X-WR-CALNAME:e-seu@ajpiera.cat
X-WR-TIMEZONE:Europe/Madrid
DESCRIPTION:Dansa del ventre
URI:https://www.viladepiera.cat/actualitat/agenda/22982-dansa-del-ventre.html
CLASS:PUBLIC
END:VEVENT
END:VCALENDAR
