BEGIN:VCALENDAR
VERSION:2.0
CALSCALE:GREGORIAN
PRODID:-//Diputació de Barcelona//DibaCMS//EN
BEGIN:VEVENT
UID:22983
DTSTAMP:20260424T001402
DTSTART:20100910T220000
DTEND:20100910T000000
SUMMARY:Concert de música àrab
LOCATION:
METHOD:PUBLISH
X-WR-CALNAME:e-seu@ajpiera.cat
X-WR-TIMEZONE:Europe/Madrid
DESCRIPTION:Concert de música àrab
URI:https://www.viladepiera.cat/actualitat/agenda/concert-de-musica-arab.html
CLASS:PUBLIC
END:VEVENT
END:VCALENDAR
