BEGIN:VCALENDAR
VERSION:2.0
CALSCALE:GREGORIAN
PRODID:-//Diputació de Barcelona//DibaCMS//EN
BEGIN:VEVENT
UID:22985
DTSTAMP:20260423T220028
DTSTART:20100910T180000
DTEND:20100910T203000
SUMMARY:Tennis taula (menors 14 anys)
LOCATION:
METHOD:PUBLISH
X-WR-CALNAME:e-seu@ajpiera.cat
X-WR-TIMEZONE:Europe/Madrid
DESCRIPTION:Tennis taula (menors 14 anys)
URI:https://www.viladepiera.cat/actualitat/agenda/tennis-taula-menors-14-anys.html
CLASS:PUBLIC
END:VEVENT
END:VCALENDAR
