BEGIN:VCALENDAR
VERSION:2.0
CALSCALE:GREGORIAN
PRODID:-//Diputació de Barcelona//DibaCMS//EN
BEGIN:VEVENT
UID:22987
DTSTAMP:20260423T181754
DTSTART:20100911T100000
DTEND:20100911T000000
SUMMARY:Portes obertes al Casal
LOCATION:
METHOD:PUBLISH
X-WR-CALNAME:e-seu@ajpiera.cat
X-WR-TIMEZONE:Europe/Madrid
DESCRIPTION:Portes obertes al Casal
URI:https://www.viladepiera.cat/actualitat/agenda/portes-obertes-al-casal.html
CLASS:PUBLIC
END:VEVENT
END:VCALENDAR
