BEGIN:VCALENDAR
VERSION:2.0
CALSCALE:GREGORIAN
PRODID:-//Diputació de Barcelona//DibaCMS//EN
BEGIN:VEVENT
UID:22989
DTSTAMP:20260423T165716
DTSTART:20100911T170000
DTEND:20100911T000000
SUMMARY:Trofeu Festa Major de Veterans
LOCATION:
METHOD:PUBLISH
X-WR-CALNAME:e-seu@ajpiera.cat
X-WR-TIMEZONE:Europe/Madrid
DESCRIPTION:Trofeu Festa Major de Veterans
URI:https://www.viladepiera.cat/actualitat/agenda/trofeu-festa-major-de-veterans.html
CLASS:PUBLIC
END:VEVENT
END:VCALENDAR
