BEGIN:VCALENDAR
VERSION:2.0
CALSCALE:GREGORIAN
PRODID:-//Diputació de Barcelona//DibaCMS//EN
BEGIN:VEVENT
UID:22990
DTSTAMP:20260423T170309
DTSTART:20100911T083000
DTEND:20100911T133000
SUMMARY:Tennis taula (torneig popular)
LOCATION:
METHOD:PUBLISH
X-WR-CALNAME:e-seu@ajpiera.cat
X-WR-TIMEZONE:Europe/Madrid
DESCRIPTION:Tennis taula (torneig popular)
URI:https://www.viladepiera.cat/actualitat/agenda/tennis-taula-torneig-popular.html
CLASS:PUBLIC
END:VEVENT
END:VCALENDAR
