BEGIN:VCALENDAR
VERSION:2.0
CALSCALE:GREGORIAN
PRODID:-//Diputació de Barcelona//DibaCMS//EN
BEGIN:VEVENT
UID:22992
DTSTAMP:20260423T180545
DTSTART:20100912T100000
DTEND:20100912T180000
SUMMARY:Fira d'Artesans
LOCATION:
METHOD:PUBLISH
X-WR-CALNAME:e-seu@ajpiera.cat
X-WR-TIMEZONE:Europe/Madrid
DESCRIPTION:Fira d'Artesans
URI:https://www.viladepiera.cat/actualitat/agenda/22992-fira-dartesans.html
CLASS:PUBLIC
END:VEVENT
END:VCALENDAR
