BEGIN:VCALENDAR
VERSION:2.0
CALSCALE:GREGORIAN
PRODID:-//Diputació de Barcelona//DibaCMS//EN
BEGIN:VEVENT
UID:22994
DTSTAMP:20260423T181138
DTSTART:20100912T193000
DTEND:20100912T000000
SUMMARY:Exhibició de balls de saló
LOCATION:
METHOD:PUBLISH
X-WR-CALNAME:e-seu@ajpiera.cat
X-WR-TIMEZONE:Europe/Madrid
DESCRIPTION:Exhibició de balls de saló
URI:https://www.viladepiera.cat/actualitat/agenda/exhibicio-de-balls-de-salo.html
CLASS:PUBLIC
END:VEVENT
END:VCALENDAR
