BEGIN:VCALENDAR
VERSION:2.0
CALSCALE:GREGORIAN
PRODID:-//Diputació de Barcelona//DibaCMS//EN
BEGIN:VEVENT
UID:22998
DTSTAMP:20260423T165332
DTSTART:20100912T083000
DTEND:20100912T133000
SUMMARY:Tennis taula (torneig federats)
LOCATION:
METHOD:PUBLISH
X-WR-CALNAME:e-seu@ajpiera.cat
X-WR-TIMEZONE:Europe/Madrid
DESCRIPTION:Tennis taula (torneig federats)
URI:https://www.viladepiera.cat/actualitat/agenda/tennis-taula-torneig-federats.html
CLASS:PUBLIC
END:VEVENT
END:VCALENDAR
