BEGIN:VCALENDAR
VERSION:2.0
CALSCALE:GREGORIAN
PRODID:-//Diputació de Barcelona//DibaCMS//EN
BEGIN:VEVENT
UID:22999
DTSTAMP:20260423T192351
DTSTART:20100912T100000
DTEND:20100912T133000
SUMMARY:Ping pong per a tothom
LOCATION:
METHOD:PUBLISH
X-WR-CALNAME:e-seu@ajpiera.cat
X-WR-TIMEZONE:Europe/Madrid
DESCRIPTION:Ping pong per a tothom
URI:https://www.viladepiera.cat/actualitat/agenda/ping-pong-per-a-tothom.html
CLASS:PUBLIC
END:VEVENT
END:VCALENDAR
