BEGIN:VCALENDAR
VERSION:2.0
CALSCALE:GREGORIAN
PRODID:-//Diputació de Barcelona//DibaCMS//EN
BEGIN:VEVENT
UID:23004
DTSTAMP:20260423T155506
DTSTART:20100925T110000
DTEND:20100925T130000
SUMMARY:Fira d'Intercanvi
LOCATION:
METHOD:PUBLISH
X-WR-CALNAME:e-seu@ajpiera.cat
X-WR-TIMEZONE:Europe/Madrid
DESCRIPTION:Fira d'Intercanvi
URI:https://www.viladepiera.cat/actualitat/agenda/23004-fira-dintercanvi.html
CLASS:PUBLIC
END:VEVENT
END:VCALENDAR
