BEGIN:VCALENDAR
VERSION:2.0
CALSCALE:GREGORIAN
PRODID:-//Diputació de Barcelona//DibaCMS//EN
BEGIN:VEVENT
UID:23006
DTSTAMP:20260424T005758
DTSTART:20100926T100000
DTEND:20100926T000000
SUMMARY:Jornades Europees del Patrimoni
LOCATION:
METHOD:PUBLISH
X-WR-CALNAME:e-seu@ajpiera.cat
X-WR-TIMEZONE:Europe/Madrid
DESCRIPTION:Jornades Europees del Patrimoni
URI:https://www.viladepiera.cat/actualitat/agenda/23006-jornades-europees-del-patrimoni.html
CLASS:PUBLIC
END:VEVENT
END:VCALENDAR
