BEGIN:VCALENDAR
VERSION:2.0
CALSCALE:GREGORIAN
PRODID:-//Diputació de Barcelona//DibaCMS//EN
BEGIN:VEVENT
UID:23010
DTSTAMP:20260423T194122
DTSTART:20100930T193000
DTEND:20100930T000000
SUMMARY:Xerrada sobre la llei dels drets de la infància
LOCATION:
METHOD:PUBLISH
X-WR-CALNAME:e-seu@ajpiera.cat
X-WR-TIMEZONE:Europe/Madrid
DESCRIPTION:Xerrada sobre la llei dels drets de la infància
URI:https://www.viladepiera.cat/actualitat/agenda/xerrada-sobre-la-llei-dels-drets-de-la-infancia.html
CLASS:PUBLIC
END:VEVENT
END:VCALENDAR
