BEGIN:VCALENDAR
VERSION:2.0
CALSCALE:GREGORIAN
PRODID:-//Diputació de Barcelona//DibaCMS//EN
BEGIN:VEVENT
UID:23014
DTSTAMP:20260423T170229
DTSTART:20101003T000000
DTEND:20101003T000000
SUMMARY:Sortida a la Costa Daurada
LOCATION:
METHOD:PUBLISH
X-WR-CALNAME:e-seu@ajpiera.cat
X-WR-TIMEZONE:Europe/Madrid
DESCRIPTION:Sortida a la Costa Daurada
URI:https://www.viladepiera.cat/actualitat/agenda/sortida-a-la-costa-daurada.html
CLASS:PUBLIC
END:VEVENT
END:VCALENDAR
