BEGIN:VCALENDAR
VERSION:2.0
CALSCALE:GREGORIAN
PRODID:-//Diputació de Barcelona//DibaCMS//EN
BEGIN:VEVENT
UID:23017
DTSTAMP:20260423T143703
DTSTART:20101004T183000
DTEND:20101004T000000
SUMMARY:Xerrada: Menjar bé quan ets gran
LOCATION:
METHOD:PUBLISH
X-WR-CALNAME:e-seu@ajpiera.cat
X-WR-TIMEZONE:Europe/Madrid
DESCRIPTION:Xerrada: Menjar bé quan ets gran
URI:https://www.viladepiera.cat/actualitat/agenda/xerrada-menjar-be-quan-ets-gran.html
CLASS:PUBLIC
END:VEVENT
END:VCALENDAR
