BEGIN:VCALENDAR
VERSION:2.0
CALSCALE:GREGORIAN
PRODID:-//Diputació de Barcelona//DibaCMS//EN
BEGIN:VEVENT
UID:23019
DTSTAMP:20260423T154039
DTSTART:20101007T080000
DTEND:20101007T000000
SUMMARY:Excursió de la gent gran a Torredembarra
LOCATION:
METHOD:PUBLISH
X-WR-CALNAME:e-seu@ajpiera.cat
X-WR-TIMEZONE:Europe/Madrid
DESCRIPTION:Excursió de la gent gran a Torredembarra
URI:https://www.viladepiera.cat/actualitat/agenda/excursio-de-la-gent-gran-a-torredembarra.html
CLASS:PUBLIC
END:VEVENT
END:VCALENDAR
