BEGIN:VCALENDAR
VERSION:2.0
CALSCALE:GREGORIAN
PRODID:-//Diputació de Barcelona//DibaCMS//EN
BEGIN:VEVENT
UID:23021
DTSTAMP:20260423T170402
DTSTART:20101008T100000
DTEND:20101008T000000
SUMMARY:Ernest Maragall visita l'escola Herois del Bruc
LOCATION:
METHOD:PUBLISH
X-WR-CALNAME:e-seu@ajpiera.cat
X-WR-TIMEZONE:Europe/Madrid
DESCRIPTION:Ernest Maragall visita l'escola Herois del Bruc
URI:https://www.viladepiera.cat/actualitat/agenda/ernest-maragall-visita-lescola-herois-del-bruc.html
CLASS:PUBLIC
END:VEVENT
END:VCALENDAR
