BEGIN:VCALENDAR
VERSION:2.0
CALSCALE:GREGORIAN
PRODID:-//Diputació de Barcelona//DibaCMS//EN
BEGIN:VEVENT
UID:23023
DTSTAMP:20260423T142620
DTSTART:20101010T193000
DTEND:20101010T193000
SUMMARY:Ball al Foment
LOCATION:
METHOD:PUBLISH
X-WR-CALNAME:e-seu@ajpiera.cat
X-WR-TIMEZONE:Europe/Madrid
DESCRIPTION:Ball al Foment

URI:https://www.viladepiera.cat/actualitat/agenda/23023-ball-al-foment.html
CLASS:PUBLIC
END:VEVENT
END:VCALENDAR
