BEGIN:VCALENDAR
VERSION:2.0
CALSCALE:GREGORIAN
PRODID:-//Diputació de Barcelona//DibaCMS//EN
BEGIN:VEVENT
UID:23025
DTSTAMP:20260423T154652
DTSTART:20101010T180000
DTEND:20101010T000000
SUMMARY:Cinèfils: La vida dels altres
LOCATION:
METHOD:PUBLISH
X-WR-CALNAME:e-seu@ajpiera.cat
X-WR-TIMEZONE:Europe/Madrid
DESCRIPTION:Cinèfils: La vida dels altres
URI:https://www.viladepiera.cat/actualitat/agenda/cinefils-la-vida-dels-altres.html
CLASS:PUBLIC
END:VEVENT
END:VCALENDAR
