BEGIN:VCALENDAR
VERSION:2.0
CALSCALE:GREGORIAN
PRODID:-//Diputació de Barcelona//DibaCMS//EN
BEGIN:VEVENT
UID:23026
DTSTAMP:20260423T155624
DTSTART:20101010T100000
DTEND:20101010T180000
SUMMARY:Fira d'Artesans
LOCATION:
METHOD:PUBLISH
X-WR-CALNAME:e-seu@ajpiera.cat
X-WR-TIMEZONE:Europe/Madrid
DESCRIPTION:Fira d'Artesans

URI:https://www.viladepiera.cat/actualitat/agenda/23026-fira-dartesans.html
CLASS:PUBLIC
END:VEVENT
END:VCALENDAR
