BEGIN:VCALENDAR
VERSION:2.0
CALSCALE:GREGORIAN
PRODID:-//Diputació de Barcelona//DibaCMS//EN
BEGIN:VEVENT
UID:23029
DTSTAMP:20260423T220602
DTSTART:20101014T190000
DTEND:20101014T000000
SUMMARY:Poems&blogs. Poetes a la xarxa
LOCATION:
METHOD:PUBLISH
X-WR-CALNAME:e-seu@ajpiera.cat
X-WR-TIMEZONE:Europe/Madrid
DESCRIPTION:Poems&blogs. Poetes a la xarxa
URI:https://www.viladepiera.cat/actualitat/agenda/poemsandblogs-poetes-a-la-xarxa.html
CLASS:PUBLIC
END:VEVENT
END:VCALENDAR
