BEGIN:VCALENDAR
VERSION:2.0
CALSCALE:GREGORIAN
PRODID:-//Diputació de Barcelona//DibaCMS//EN
BEGIN:VEVENT
UID:23031
DTSTAMP:20260423T172630
DTSTART:20101016T230000
DTEND:20101016T000000
SUMMARY:Correllengua 2010
LOCATION:
METHOD:PUBLISH
X-WR-CALNAME:e-seu@ajpiera.cat
X-WR-TIMEZONE:Europe/Madrid
DESCRIPTION:Correllengua 2010
URI:https://www.viladepiera.cat/actualitat/agenda/23031-correllengua-2010.html
CLASS:PUBLIC
END:VEVENT
END:VCALENDAR
