BEGIN:VCALENDAR
VERSION:2.0
CALSCALE:GREGORIAN
PRODID:-//Diputació de Barcelona//DibaCMS//EN
BEGIN:VEVENT
UID:23036
DTSTAMP:20260423T161028
DTSTART:20101016T220000
DTEND:20101016T220000
SUMMARY:Ball de nit
LOCATION:
METHOD:PUBLISH
X-WR-CALNAME:e-seu@ajpiera.cat
X-WR-TIMEZONE:Europe/Madrid
DESCRIPTION:Ball de nit

URI:https://www.viladepiera.cat/actualitat/agenda/ball-de-nit.html
CLASS:PUBLIC
END:VEVENT
END:VCALENDAR
