BEGIN:VCALENDAR
VERSION:2.0
CALSCALE:GREGORIAN
PRODID:-//Diputació de Barcelona//DibaCMS//EN
BEGIN:VEVENT
UID:23037
DTSTAMP:20260423T171220
DTSTART:20101017T000000
DTEND:20101017T000000
SUMMARY:Romiatge a Montserrat
LOCATION:
METHOD:PUBLISH
X-WR-CALNAME:e-seu@ajpiera.cat
X-WR-TIMEZONE:Europe/Madrid
DESCRIPTION:Romiatge a Montserrat
URI:https://www.viladepiera.cat/actualitat/agenda/23037-romiatge-a-montserrat.html
CLASS:PUBLIC
END:VEVENT
END:VCALENDAR
