BEGIN:VCALENDAR
VERSION:2.0
CALSCALE:GREGORIAN
PRODID:-//Diputació de Barcelona//DibaCMS//EN
BEGIN:VEVENT
UID:23040
DTSTAMP:20260423T174338
DTSTART:20101020T190000
DTEND:20101020T000000
SUMMARY:Conferència: El tibet i el budisme
LOCATION:
METHOD:PUBLISH
X-WR-CALNAME:e-seu@ajpiera.cat
X-WR-TIMEZONE:Europe/Madrid
DESCRIPTION:Conferència: El tibet i el budisme
URI:https://www.viladepiera.cat/actualitat/agenda/conferencia-el-tibet-i-el-budisme.html
CLASS:PUBLIC
END:VEVENT
END:VCALENDAR
