BEGIN:VCALENDAR
VERSION:2.0
CALSCALE:GREGORIAN
PRODID:-//Diputació de Barcelona//DibaCMS//EN
BEGIN:VEVENT
UID:23047
DTSTAMP:20260423T144012
DTSTART:20101029T190000
DTEND:20101029T000000
SUMMARY:Divendres de cine: Millenium 3
LOCATION:
METHOD:PUBLISH
X-WR-CALNAME:e-seu@ajpiera.cat
X-WR-TIMEZONE:Europe/Madrid
DESCRIPTION:Divendres de cine: Millenium 3
URI:https://www.viladepiera.cat/actualitat/agenda/divendres-de-cine-millenium-3.html
CLASS:PUBLIC
END:VEVENT
END:VCALENDAR
