BEGIN:VCALENDAR
VERSION:2.0
CALSCALE:GREGORIAN
PRODID:-//Diputació de Barcelona//DibaCMS//EN
BEGIN:VEVENT
UID:23051
DTSTAMP:20260423T132004
DTSTART:20101030T110000
DTEND:20101030T140000
SUMMARY:Fira d'intercanvi
LOCATION:
METHOD:PUBLISH
X-WR-CALNAME:e-seu@ajpiera.cat
X-WR-TIMEZONE:Europe/Madrid
DESCRIPTION:Fira d'intercanvi

URI:https://www.viladepiera.cat/actualitat/agenda/23051-fira-dintercanvi.html
CLASS:PUBLIC
END:VEVENT
END:VCALENDAR
