BEGIN:VCALENDAR
VERSION:2.0
CALSCALE:GREGORIAN
PRODID:-//Diputació de Barcelona//DibaCMS//EN
BEGIN:VEVENT
UID:23054
DTSTAMP:20260423T132107
DTSTART:20101031T030000
DTEND:20101031T030000
SUMMARY:Una hora més
LOCATION:
METHOD:PUBLISH
X-WR-CALNAME:e-seu@ajpiera.cat
X-WR-TIMEZONE:Europe/Madrid
DESCRIPTION:Una hora més

URI:https://www.viladepiera.cat/actualitat/agenda/una-hora-mes.html
CLASS:PUBLIC
END:VEVENT
END:VCALENDAR
