BEGIN:VCALENDAR
VERSION:2.0
CALSCALE:GREGORIAN
PRODID:-//Diputació de Barcelona//DibaCMS//EN
BEGIN:VEVENT
UID:23055
DTSTAMP:20260423T144235
DTSTART:20101031T110000
DTEND:20101031T230000
SUMMARY:Fira de Tots Sants
LOCATION:
METHOD:PUBLISH
X-WR-CALNAME:e-seu@ajpiera.cat
X-WR-TIMEZONE:Europe/Madrid
DESCRIPTION:Fira de Tots Sants
URI:https://www.viladepiera.cat/actualitat/agenda/fira-de-tots-sants.html
CLASS:PUBLIC
END:VEVENT
END:VCALENDAR
