BEGIN:VCALENDAR
VERSION:2.0
CALSCALE:GREGORIAN
PRODID:-//Diputació de Barcelona//DibaCMS//EN
BEGIN:VEVENT
UID:23057
DTSTAMP:20260423T075205
DTSTART:20101102T190000
DTEND:20101102T190000
SUMMARY:Ple Sorteig
LOCATION:
METHOD:PUBLISH
X-WR-CALNAME:e-seu@ajpiera.cat
X-WR-TIMEZONE:Europe/Madrid
DESCRIPTION:Ple Sorteig

URI:https://www.viladepiera.cat/actualitat/agenda/ple-sorteig.html
CLASS:PUBLIC
END:VEVENT
END:VCALENDAR
