BEGIN:VCALENDAR
VERSION:2.0
CALSCALE:GREGORIAN
PRODID:-//Diputació de Barcelona//DibaCMS//EN
BEGIN:VEVENT
UID:23058
DTSTAMP:20260423T190543
DTSTART:20101104T183000
DTEND:20101104T000000
SUMMARY:Creació d'un blog
LOCATION:
METHOD:PUBLISH
X-WR-CALNAME:e-seu@ajpiera.cat
X-WR-TIMEZONE:Europe/Madrid
DESCRIPTION:Creació d'un blog
URI:https://www.viladepiera.cat/actualitat/agenda/creacio-dun-blog.html
CLASS:PUBLIC
END:VEVENT
END:VCALENDAR
