BEGIN:VCALENDAR
VERSION:2.0
CALSCALE:GREGORIAN
PRODID:-//Diputació de Barcelona//DibaCMS//EN
BEGIN:VEVENT
UID:23067
DTSTAMP:20260423T200149
DTSTART:20101112T080000
DTEND:20101112T170000
SUMMARY:Carretera tallada (avui)
LOCATION:
METHOD:PUBLISH
X-WR-CALNAME:e-seu@ajpiera.cat
X-WR-TIMEZONE:Europe/Madrid
DESCRIPTION:Carretera tallada (avui)
URI:https://www.viladepiera.cat/actualitat/agenda/carretera-tallada-avui.html
CLASS:PUBLIC
END:VEVENT
END:VCALENDAR
