BEGIN:VCALENDAR
VERSION:2.0
CALSCALE:GREGORIAN
PRODID:-//Diputació de Barcelona//DibaCMS//EN
BEGIN:VEVENT
UID:23068
DTSTAMP:20260423T185518
DTSTART:20101113T221500
DTEND:20101113T000000
SUMMARY:35è Concurs de Teatre
LOCATION:
METHOD:PUBLISH
X-WR-CALNAME:e-seu@ajpiera.cat
X-WR-TIMEZONE:Europe/Madrid
DESCRIPTION:35è Concurs de Teatre
URI:https://www.viladepiera.cat/actualitat/agenda/23068-35e-concurs-de-teatre.html
CLASS:PUBLIC
END:VEVENT
END:VCALENDAR
