BEGIN:VCALENDAR
VERSION:2.0
CALSCALE:GREGORIAN
PRODID:-//Diputació de Barcelona//DibaCMS//EN
BEGIN:VEVENT
UID:23070
DTSTAMP:20260423T174529
DTSTART:20101114T180000
DTEND:20101114T000000
SUMMARY:Cinèfils: Una jornada particular
LOCATION:
METHOD:PUBLISH
X-WR-CALNAME:e-seu@ajpiera.cat
X-WR-TIMEZONE:Europe/Madrid
DESCRIPTION:Cinèfils: Una jornada particular
URI:https://www.viladepiera.cat/actualitat/agenda/cinefils-una-jornada-particular.html
CLASS:PUBLIC
END:VEVENT
END:VCALENDAR
