BEGIN:VCALENDAR
VERSION:2.0
CALSCALE:GREGORIAN
PRODID:-//Diputació de Barcelona//DibaCMS//EN
BEGIN:VEVENT
UID:23071
DTSTAMP:20260423T172614
DTSTART:20101116T183000
DTEND:20101116T000000
SUMMARY:Club de lectura i tertúlia amb l'escriptora Najat El Hachmi
LOCATION:
METHOD:PUBLISH
X-WR-CALNAME:e-seu@ajpiera.cat
X-WR-TIMEZONE:Europe/Madrid
DESCRIPTION:Club de lectura i tertúlia amb l'escriptora Najat El Hachmi
URI:https://www.viladepiera.cat/actualitat/agenda/club-de-lectura-i-tertulia-amb-lescriptora-najat-el-hachmi.html
CLASS:PUBLIC
END:VEVENT
END:VCALENDAR
