BEGIN:VCALENDAR
VERSION:2.0
CALSCALE:GREGORIAN
PRODID:-//Diputació de Barcelona//DibaCMS//EN
BEGIN:VEVENT
UID:23072
DTSTAMP:20260423T190732
DTSTART:20101116T160000
DTEND:20101116T190000
SUMMARY:Curs de restauració col·lectiva 
LOCATION:
METHOD:PUBLISH
X-WR-CALNAME:e-seu@ajpiera.cat
X-WR-TIMEZONE:Europe/Madrid
DESCRIPTION:Curs de restauració col·lectiva 
URI:https://www.viladepiera.cat/actualitat/agenda/curs-de-restauracio-collectiva-.html
CLASS:PUBLIC
END:VEVENT
END:VCALENDAR
