BEGIN:VCALENDAR
VERSION:2.0
CALSCALE:GREGORIAN
PRODID:-//Diputació de Barcelona//DibaCMS//EN
BEGIN:VEVENT
UID:23074
DTSTAMP:20260423T162724
DTSTART:20101117T180000
DTEND:20101117T190000
SUMMARY:Bus de les professions
LOCATION:
METHOD:PUBLISH
X-WR-CALNAME:e-seu@ajpiera.cat
X-WR-TIMEZONE:Europe/Madrid
DESCRIPTION:Bus de les professions
URI:https://www.viladepiera.cat/actualitat/agenda/bus-de-les-professions.html
CLASS:PUBLIC
END:VEVENT
END:VCALENDAR
