BEGIN:VCALENDAR
VERSION:2.0
CALSCALE:GREGORIAN
PRODID:-//Diputació de Barcelona//DibaCMS//EN
BEGIN:VEVENT
UID:23075
DTSTAMP:20260423T184429
DTSTART:20101117T130000
DTEND:20101117T000000
SUMMARY:CRAE Polzet: 15 anys
LOCATION:
METHOD:PUBLISH
X-WR-CALNAME:e-seu@ajpiera.cat
X-WR-TIMEZONE:Europe/Madrid
DESCRIPTION:CRAE Polzet: 15 anys
URI:https://www.viladepiera.cat/actualitat/agenda/crae-polzet-15-anys.html
CLASS:PUBLIC
END:VEVENT
END:VCALENDAR
