BEGIN:VCALENDAR
VERSION:2.0
CALSCALE:GREGORIAN
PRODID:-//Diputació de Barcelona//DibaCMS//EN
BEGIN:VEVENT
UID:23078
DTSTAMP:20260423T134606
DTSTART:20101119T113000
DTEND:20101119T130000
SUMMARY:Oficina mòbil d'informació al consumidor
LOCATION:
METHOD:PUBLISH
X-WR-CALNAME:e-seu@ajpiera.cat
X-WR-TIMEZONE:Europe/Madrid
DESCRIPTION:Oficina mòbil d'informació al consumidor
URI:https://www.viladepiera.cat/actualitat/agenda/23078-oficina-mobil-dinformacio-al-consumidor.html
CLASS:PUBLIC
END:VEVENT
END:VCALENDAR
