BEGIN:VCALENDAR
VERSION:2.0
CALSCALE:GREGORIAN
PRODID:-//Diputació de Barcelona//DibaCMS//EN
BEGIN:VEVENT
UID:23080
DTSTAMP:20260423T173333
DTSTART:20101120T100000
DTEND:20101121T220000
SUMMARY:Campionat de padel
LOCATION:
METHOD:PUBLISH
X-WR-CALNAME:e-seu@ajpiera.cat
X-WR-TIMEZONE:Europe/Madrid
DESCRIPTION:Campionat de padel

URI:https://www.viladepiera.cat/actualitat/agenda/campionat-de-padel.html
CLASS:PUBLIC
END:VEVENT
END:VCALENDAR
